BEGIN:VCALENDAR
VERSION:2.0
PRODID:Carson City Calendar Creator
METHOD:PUBLISH
BEGIN:VEVENT
DTSTAMP:20260303T171736
DTSTART:20260328T140000
DTEND:20260328T160000
SUMMARY:Youth Theatre Carson City presents Disney's Dare to Dream
DESCRIPTION:<p>Disney’s Dare to Dream JR. is a musical revue that follows an eager group of trainees on their first day at a fictional Walt Disney Imagineering Studio. As the group sets out to help each other discover their dreams, they work together to explore the power of dreams to unite, inspire, and make anything possible. Drawing from a century of beloved Disney films, Dare to Dream JR. is a thrilling mix of contemporary songs, timeless classics, and brand-new medleys that are sure to surprise and delight Disney lovers of all ages.</p><p>&nbsp;</p><p>Tickets:&nbsp;<a href="https://youththeatrecarsoncity.ludus.com/index.php" target="_blank" rel="noopener">https://youththeatrecarsoncity.ludus.com/index.php</a></p>
X-ALT-DESC;FMTTYPE=text/html:<p>Disney’s Dare to Dream JR. is a musical revue that follows an eager group of trainees on their first day at a fictional Walt Disney Imagineering Studio. As the group sets out to help each other discover their dreams, they work together to explore the power of dreams to unite, inspire, and make anything possible. Drawing from a century of beloved Disney films, Dare to Dream JR. is a thrilling mix of contemporary songs, timeless classics, and brand-new medleys that are sure to surprise and delight Disney lovers of all ages.</p><p>&nbsp;</p><p>Tickets:&nbsp;<a href="https://youththeatrecarsoncity.ludus.com/index.php" target="_blank" rel="noopener">https://youththeatrecarsoncity.ludus.com/index.php</a></p>
LOCATION:Bob Boldrick Theater\, 851 E. William St. Carson City\, Nevada 89701
CLASS:PUBLIC
END:VEVENT
END:VCALENDAR
