BEGIN:VCALENDAR
VERSION:2.0
PRODID:Carson City Calendar Creator
METHOD:PUBLISH
BEGIN:VEVENT
DTSTAMP:20260303T172948
DTSTART:20260403T190000
DTEND:20260403T210000
SUMMARY:Carson High School Cheers' Mr. Carson High Pageant
DESCRIPTION:
X-ALT-DESC;FMTTYPE=text/html:
LOCATION:Bob Boldrick Theater\, 851 E. William St. Carson City\, Nevada 89701
CLASS:PUBLIC
END:VEVENT
END:VCALENDAR
