BEGIN:VCALENDAR
VERSION:2.0
PRODID:Carson City Calendar Creator
METHOD:PUBLISH
BEGIN:VEVENT
DTSTAMP:20260313T140951
DTSTART:20260404T170000
DTEND:20260404T190000
SUMMARY:Nevada Dance Company presents Alice iN Wonderland
DESCRIPTION:<p wixui-rich-text__text"="">Join Nevada Dance Company's Professional and Pre Professional dancers for a magical journey down the rabbit hole with Alice in Wonderland! Perfect for the whole family, this whimsical ballet comes to the Bob Boldrick Theatre in Carson City on Easter weekend — Saturday, April 4 at 5:00 PM.</p><p wixui-rich-text__text"="">Follow Alice as she tumbles into a fantastical world filled with unforgettable characters including the mischievous Mad Hatter, the curious White Rabbit, the hilarious Tweedle Dee and Tweedle Dum, the commanding Queen of Hearts, and many more beloved favorites. Bursting with colorful costumes, lively music, and imaginative storytelling, this enchanting production brings Lewis Carroll’s classic tale to life through dance.</p><p wixui-rich-text__text"="">After the performance, families are invited to meet the characters, take photos, and experience a little extra Wonderland magic.</p><p wixui-rich-text__text"="">Don’t miss this delightful Easter weekend adventure that audiences of all ages will love!</p><p>Tickets:&nbsp;<a href="https://www.etix.com/ticket/p/35412156/alice-in-wonderland" target="_blank" rel="noopener">https://www.etix.com/ticket/p/35412156/alice-in-wonderland</a></p>
X-ALT-DESC;FMTTYPE=text/html:<p wixui-rich-text__text"="">Join Nevada Dance Company's Professional and Pre Professional dancers for a magical journey down the rabbit hole with Alice in Wonderland! Perfect for the whole family, this whimsical ballet comes to the Bob Boldrick Theatre in Carson City on Easter weekend — Saturday, April 4 at 5:00 PM.</p><p wixui-rich-text__text"="">Follow Alice as she tumbles into a fantastical world filled with unforgettable characters including the mischievous Mad Hatter, the curious White Rabbit, the hilarious Tweedle Dee and Tweedle Dum, the commanding Queen of Hearts, and many more beloved favorites. Bursting with colorful costumes, lively music, and imaginative storytelling, this enchanting production brings Lewis Carroll’s classic tale to life through dance.</p><p wixui-rich-text__text"="">After the performance, families are invited to meet the characters, take photos, and experience a little extra Wonderland magic.</p><p wixui-rich-text__text"="">Don’t miss this delightful Easter weekend adventure that audiences of all ages will love!</p><p>Tickets:&nbsp;<a href="https://www.etix.com/ticket/p/35412156/alice-in-wonderland" target="_blank" rel="noopener">https://www.etix.com/ticket/p/35412156/alice-in-wonderland</a></p>
LOCATION:Bob Boldrick Theater\, 851 E. William St. Carson City\, Nevada 89701
CLASS:PUBLIC
END:VEVENT
END:VCALENDAR
