BEGIN:VCALENDAR
VERSION:2.0
PRODID:Carson City Calendar Creator
METHOD:PUBLISH
BEGIN:VEVENT
DTSTAMP:20260303T173959
DTSTART:20260410T193000
DTEND:20260410T223000
SUMMARY:The Floyd
DESCRIPTION:<p>The West Coast’s Most Authentic and Sophisticated Pink Floyd Experience&nbsp;</p><p>&nbsp;</p><p>Tickets:&nbsp;<a href="https://www.eventbrite.com/e/the-floyd-at-the-bob-boldrick-theater-tickets-1982026275946?aff=erellivmlt" target="_blank" rel="noopener">https://www.eventbrite.com/e/the-floyd-at-the-bob-boldrick-theater-tickets-1982026275946?aff=erellivmlt</a></p>
X-ALT-DESC;FMTTYPE=text/html:<p>The West Coast’s Most Authentic and Sophisticated Pink Floyd Experience&nbsp;</p><p>&nbsp;</p><p>Tickets:&nbsp;<a href="https://www.eventbrite.com/e/the-floyd-at-the-bob-boldrick-theater-tickets-1982026275946?aff=erellivmlt" target="_blank" rel="noopener">https://www.eventbrite.com/e/the-floyd-at-the-bob-boldrick-theater-tickets-1982026275946?aff=erellivmlt</a></p>
LOCATION:Bob Boldrick Theater\, 851 E. William St. Carson City\, Nevada 89701
CLASS:PUBLIC
END:VEVENT
END:VCALENDAR
