BEGIN:VCALENDAR
VERSION:2.0
PRODID:Carson City Calendar Creator
METHOD:PUBLISH
BEGIN:VEVENT
DTSTAMP:20260303T174952
DTSTART:20260411T193000
DTEND:20260411T223000
SUMMARY:The Floyd
DESCRIPTION:<p>The West Coast’s Most Authentic and Sophisticated Pink Floyd Experience&nbsp;</p><p>&nbsp;</p><p>Tickets:&nbsp;<a href="https://www.eventbrite.com/e/the-floyd-at-the-bob-boldrick-theater-tickets-1982704910761" target="_blank" rel="noopener">https://www.eventbrite.com/e/the-floyd-at-the-bob-boldrick-theater-tickets-1982704910761</a></p>
X-ALT-DESC;FMTTYPE=text/html:<p>The West Coast’s Most Authentic and Sophisticated Pink Floyd Experience&nbsp;</p><p>&nbsp;</p><p>Tickets:&nbsp;<a href="https://www.eventbrite.com/e/the-floyd-at-the-bob-boldrick-theater-tickets-1982704910761" target="_blank" rel="noopener">https://www.eventbrite.com/e/the-floyd-at-the-bob-boldrick-theater-tickets-1982704910761</a></p>
LOCATION:Bob Boldrick Theater\, 851 E. William St. Carson City\, Nevada 89701
CLASS:PUBLIC
END:VEVENT
END:VCALENDAR
