BEGIN:VCALENDAR
VERSION:2.0
PRODID:Carson City Calendar Creator
METHOD:PUBLISH
BEGIN:VEVENT
DTSTAMP:20260303T174706
DTSTART:20260418T190000
DTEND:20260418T210000
SUMMARY:Youth Theatre Carson City Spotlight Awards
DESCRIPTION:<p>Join us for an evening of song and dance as we celebrate another amazing season at Youth Theatre Carson City!&nbsp; Hosted by the National Award-Winning Showstoppers, this annual event features awards, performances, honors, prizes, and more!</p><p>Free</p>
X-ALT-DESC;FMTTYPE=text/html:<p>Join us for an evening of song and dance as we celebrate another amazing season at Youth Theatre Carson City!&nbsp; Hosted by the National Award-Winning Showstoppers, this annual event features awards, performances, honors, prizes, and more!</p><p>Free</p>
LOCATION:Bob Boldrick Theater\, 851 E. William St. Carson City\, Nevada 89701
CLASS:PUBLIC
END:VEVENT
END:VCALENDAR
