BEGIN:VCALENDAR
VERSION:2.0
PRODID:Carson City Calendar Creator
METHOD:PUBLISH
BEGIN:VEVENT
DTSTAMP:20260403T165350
DTSTART:20260426T160000
DTEND:20260426T183000
SUMMARY:Carson City Symphony "Adventures in Music" Concert
DESCRIPTION:<p>The Carson City Symphony, conducted by Music Director David Bugli, will present&nbsp;<b>"Adventures in Music"</b>&nbsp;on Sunday, April 26, at 4:00 p.m., at the Carson City Community Center's Bob Boldrick Theater, 851 E. William Street in Carson City.</p><p>The program opens with Rossini's&nbsp;<i>Barber of Seville</i>&nbsp;Overture. Guest soloist&nbsp;<b>Natalie Brooke Higgins</b>&nbsp;will play Reinhold Glière's Concerto for Horn, Op. 91, with the orchestra. The concert also includes Steven Rosenhaus's&nbsp;<i>Nevada Bagatelles</i>&nbsp;and three movements from Robert W. Smith's Symphony No. 2 (<i>The Odyssey</i>).</p><p>Tickets are $18 general admission; $15 for seniors, students, and Symphony Association members; and free for youth age 18 and under. Tickets are on sale online at CCSymphony.com (see&nbsp;"Buy now"&nbsp;button below) or at the door. "Flex" tickets at discounted prices are also available at CCSymphony.com. During the week before the concert (April 18 through 25), blood donors at Vitalant-Carson City may receive a complimentary ticket to the concert.</p><p>Pre-show entertainment by Naomi Adams, cello, and Wendy Whyman, keyboard, begins at 3:00 p.m. in the lobby. A concert preview with conductor David Bugli and soloist Natalie Higgins begins at 3:15 p.m. in the Bob Crowell Board Room.</p><p>Carson City Symphony is a community orchestra of about 60 players who perform music from the 15th to the 21st centuries. The 2025-26 concert season is supported with public funding through the Nevada Arts Council and the National Endowment for the Arts, Carson City, and by private donations.</p><p>For more information, see CCSymphony.com or call (775) 883-4154.</p><p>Tickets:&nbsp;<a href="https://checkout.square.site/merchant/2XNR5WCAK0WZZ/checkout/OWWYIIJVJ3NXIPQ5EWO53J37?src=embed" target="_blank" rel="noopener">https://checkout.square.site/merchant/2XNR5WCAK0WZZ/checkout/OWWYIIJVJ3NXIPQ5EWO53J37?src=embed</a></p>
X-ALT-DESC;FMTTYPE=text/html:<p>The Carson City Symphony, conducted by Music Director David Bugli, will present&nbsp;<b>"Adventures in Music"</b>&nbsp;on Sunday, April 26, at 4:00 p.m., at the Carson City Community Center's Bob Boldrick Theater, 851 E. William Street in Carson City.</p><p>The program opens with Rossini's&nbsp;<i>Barber of Seville</i>&nbsp;Overture. Guest soloist&nbsp;<b>Natalie Brooke Higgins</b>&nbsp;will play Reinhold Glière's Concerto for Horn, Op. 91, with the orchestra. The concert also includes Steven Rosenhaus's&nbsp;<i>Nevada Bagatelles</i>&nbsp;and three movements from Robert W. Smith's Symphony No. 2 (<i>The Odyssey</i>).</p><p>Tickets are $18 general admission; $15 for seniors, students, and Symphony Association members; and free for youth age 18 and under. Tickets are on sale online at CCSymphony.com (see&nbsp;"Buy now"&nbsp;button below) or at the door. "Flex" tickets at discounted prices are also available at CCSymphony.com. During the week before the concert (April 18 through 25), blood donors at Vitalant-Carson City may receive a complimentary ticket to the concert.</p><p>Pre-show entertainment by Naomi Adams, cello, and Wendy Whyman, keyboard, begins at 3:00 p.m. in the lobby. A concert preview with conductor David Bugli and soloist Natalie Higgins begins at 3:15 p.m. in the Bob Crowell Board Room.</p><p>Carson City Symphony is a community orchestra of about 60 players who perform music from the 15th to the 21st centuries. The 2025-26 concert season is supported with public funding through the Nevada Arts Council and the National Endowment for the Arts, Carson City, and by private donations.</p><p>For more information, see CCSymphony.com or call (775) 883-4154.</p><p>Tickets:&nbsp;<a href="https://checkout.square.site/merchant/2XNR5WCAK0WZZ/checkout/OWWYIIJVJ3NXIPQ5EWO53J37?src=embed" target="_blank" rel="noopener">https://checkout.square.site/merchant/2XNR5WCAK0WZZ/checkout/OWWYIIJVJ3NXIPQ5EWO53J37?src=embed</a></p>
LOCATION:Bob Boldrick Theater\, 851 E. William St. Carson City\, Nevada 89701
CLASS:PUBLIC
END:VEVENT
END:VCALENDAR
