BEGIN:VCALENDAR
VERSION:2.0
PRODID:Carson City Calendar Creator
METHOD:PUBLISH
BEGIN:VEVENT
DTSTAMP:20260304T094403
DTSTART:20260311T173000
DTEND:20260311T200000
SUMMARY:Carson City Advisory Board to Manage Wildlife
DESCRIPTION:
X-ALT-DESC;FMTTYPE=text/html:
LOCATION:Community Center Bonanza Room\, 851 East William Street Carson City\, Nevada 89701
CLASS:PUBLIC
END:VEVENT
END:VCALENDAR
