BEGIN:VCALENDAR
VERSION:2.0
PRODID:Carson City Calendar Creator
METHOD:PUBLISH
BEGIN:VEVENT
DTSTAMP:20260326T170540
DTSTART:20260517T140000
DTEND:20260517T160000
SUMMARY:Western Nevada Musical Theater Company presents Come from Away
DESCRIPTION:<p>Come From Away&nbsp;is generally rated for ages 10+ or 12+, often compared to a PG-13 movie, with some strong language (bleeped), some mild language, and emotional weight, but it's praised for its positive message of compassion, kindness, and human connection, though sensitive viewers might find the 9/11 context triggering.&nbsp;</p><p>Tickets:&nbsp;<a href="https://www.wnmtc.com/buy-tickets" target="_blank" rel="noopener">https://www.wnmtc.com/buy-tickets</a></p>
X-ALT-DESC;FMTTYPE=text/html:<p>Come From Away&nbsp;is generally rated for ages 10+ or 12+, often compared to a PG-13 movie, with some strong language (bleeped), some mild language, and emotional weight, but it's praised for its positive message of compassion, kindness, and human connection, though sensitive viewers might find the 9/11 context triggering.&nbsp;</p><p>Tickets:&nbsp;<a href="https://www.wnmtc.com/buy-tickets" target="_blank" rel="noopener">https://www.wnmtc.com/buy-tickets</a></p>
LOCATION:Bob Boldrick Theater\, 851 E. William St. Carson City\, Nevada 89701
CLASS:PUBLIC
END:VEVENT
END:VCALENDAR
