BEGIN:VCALENDAR
VERSION:2.0
PRODID:Carson City Calendar Creator
METHOD:PUBLISH
BEGIN:VEVENT
DTSTAMP:20260326T170642
DTSTART:20260519T190000
DTEND:20260519T210000
SUMMARY:Carson High School Musical Theater Concert
DESCRIPTION:Free
X-ALT-DESC;FMTTYPE=text/html:Free
LOCATION:Bob Boldrick Theater\, 851 E. William St. Carson City\, Nevada 89701
CLASS:PUBLIC
END:VEVENT
END:VCALENDAR
