BEGIN:VCALENDAR
VERSION:2.0
PRODID:Carson City Calendar Creator
METHOD:PUBLISH
BEGIN:VEVENT
DTSTAMP:20260326T171014
DTSTART:20260523T150000
DTEND:20260523T170000
SUMMARY:Reno Video Game Symphony Concert
DESCRIPTION:<p><a href="https://www.rvgs.org/" target="_blank" rel="noopener">https://www.rvgs.org/</a></p><p>Free</p>
X-ALT-DESC;FMTTYPE=text/html:<p><a href="https://www.rvgs.org/" target="_blank" rel="noopener">https://www.rvgs.org/</a></p><p>Free</p>
LOCATION:
CLASS:PUBLIC
END:VEVENT
END:VCALENDAR
