BEGIN:VCALENDAR
VERSION:2.0
PRODID:Carson City Calendar Creator
METHOD:PUBLISH
BEGIN:VEVENT
DTSTAMP:20260326T172058
DTSTART:20260530T080000
DTEND:20260530T170000
SUMMARY:Curtainline Dance Competition
DESCRIPTION:<p><a href="https://www.curtainlinedance.com/" target="_blank" rel="noopener">https://www.curtainlinedance.com/</a></p><p>&nbsp;Free</p><br>
X-ALT-DESC;FMTTYPE=text/html:<p><a href="https://www.curtainlinedance.com/" target="_blank" rel="noopener">https://www.curtainlinedance.com/</a></p><p>&nbsp;Free</p><br>
LOCATION:Bob Boldrick Theater\, 851 E. William St. Carson City\, Nevada 89701
CLASS:PUBLIC
END:VEVENT
END:VCALENDAR
