BEGIN:VCALENDAR
VERSION:2.0
PRODID:Carson City Calendar Creator
METHOD:PUBLISH
BEGIN:VEVENT
DTSTAMP:20260407T135749
DTSTART:20260529T090000
DTEND:20260529T110000
SUMMARY:Meet the Orchestra
DESCRIPTION:Free
X-ALT-DESC;FMTTYPE=text/html:Free
LOCATION:Bob Boldrick Theater\, 851 E. William St. Carson City\, Nevada 89701
CLASS:PUBLIC
END:VEVENT
END:VCALENDAR
