BEGIN:VCALENDAR
VERSION:2.0
PRODID:Carson City Calendar Creator
METHOD:PUBLISH
BEGIN:VEVENT
DTSTAMP:20260326T172647
DTSTART:20260606T170000
DTEND:20260606T200000
SUMMARY:Creative Edge Dance Recital
DESCRIPTION:<a href="https://www.creativeedgenv.com/" target="_blank" rel="noopener">https://www.creativeedgenv.com/</a>
X-ALT-DESC;FMTTYPE=text/html:<a href="https://www.creativeedgenv.com/" target="_blank" rel="noopener">https://www.creativeedgenv.com/</a>
LOCATION:Bob Boldrick Theater\, 851 E. William St. Carson City\, Nevada 89701
CLASS:PUBLIC
END:VEVENT
END:VCALENDAR
