BEGIN:VCALENDAR
VERSION:2.0
PRODID:Carson City Calendar Creator
METHOD:PUBLISH
BEGIN:VEVENT
DTSTAMP:20260326T173249
DTSTART:20260607T150000
DTEND:20260607T180000
SUMMARY:Loft Dance Theater Arts Recital
DESCRIPTION:<a href="https://www.loftdancearts.com/" target="_blank" rel="noopener">https://www.loftdancearts.com/</a>
X-ALT-DESC;FMTTYPE=text/html:<a href="https://www.loftdancearts.com/" target="_blank" rel="noopener">https://www.loftdancearts.com/</a>
LOCATION:Bob Boldrick Theater\, 851 E. William St. Carson City\, Nevada 89701
CLASS:PUBLIC
END:VEVENT
END:VCALENDAR
