BEGIN:VCALENDAR
VERSION:2.0
PRODID:Carson City Calendar Creator
METHOD:PUBLISH
BEGIN:VEVENT
DTSTAMP:20260326T183604
DTSTART:20260628T140000
DTEND:20260628T180000
SUMMARY:Nevada Dance Company and Dance Workshop Recital
DESCRIPTION:<p><a href="https://www.nevadadancecompany.com/" target="_blank" rel="noopener">https://www.nevadadancecompany.com/</a></p><p><a href="https://www.danceworkshoponline.com/" target="_blank" rel="noopener">https://www.danceworkshoponline.com/</a></p>
X-ALT-DESC;FMTTYPE=text/html:<p><a href="https://www.nevadadancecompany.com/" target="_blank" rel="noopener">https://www.nevadadancecompany.com/</a></p><p><a href="https://www.danceworkshoponline.com/" target="_blank" rel="noopener">https://www.danceworkshoponline.com/</a></p>
LOCATION:Bob Boldrick Theater\, 851 E. William St. Carson City\, Nevada 89701
CLASS:PUBLIC
END:VEVENT
END:VCALENDAR
