BEGIN:VCALENDAR
VERSION:2.0
PRODID:Carson City Calendar Creator
METHOD:PUBLISH
BEGIN:VEVENT
DTSTAMP:20260403T160952
DTSTART:20260718T190000
DTEND:20260718T203000
SUMMARY:Youth Theatre Carson City Presents Something Rotten, Jr.
DESCRIPTION:<p>Travel back to the Renaissance for an hour of musical comedy gold in Something Rotten! JR. Adapted from the Broadway hit that Time Out New York hailed as "the funniest musical comedy in at least 400 years," Something Rotten! JR. celebrates one undeniable truth: “nothing’s as amazing as a musical!”</p><p>&nbsp;</p><p>Tickets:&nbsp;<a href="Travel back to the Renaissance for an hour of musical comedy gold in Something Rotten! JR. Adapted from the Broadway hit that Time Out New York hailed as &quot;the funniest musical comedy in at least 400 years,&quot; Something Rotten! JR. celebrates one undeniable truth: “nothing’s as amazing as a musical!”   Tickets: https://youththeatrecarsoncity.ludus.com/index.php" target="_blank" rel="noopener">https://youththeatrecarsoncity.ludus.com/index.php</a></p>
X-ALT-DESC;FMTTYPE=text/html:<p>Travel back to the Renaissance for an hour of musical comedy gold in Something Rotten! JR. Adapted from the Broadway hit that Time Out New York hailed as "the funniest musical comedy in at least 400 years," Something Rotten! JR. celebrates one undeniable truth: “nothing’s as amazing as a musical!”</p><p>&nbsp;</p><p>Tickets:&nbsp;<a href="Travel back to the Renaissance for an hour of musical comedy gold in Something Rotten! JR. Adapted from the Broadway hit that Time Out New York hailed as &quot;the funniest musical comedy in at least 400 years,&quot; Something Rotten! JR. celebrates one undeniable truth: “nothing’s as amazing as a musical!”   Tickets: https://youththeatrecarsoncity.ludus.com/index.php" target="_blank" rel="noopener">https://youththeatrecarsoncity.ludus.com/index.php</a></p>
LOCATION:Bob Boldrick Theater\, 851 E. William St. Carson City\, Nevada 89701
CLASS:PUBLIC
END:VEVENT
END:VCALENDAR
