BEGIN:VCALENDAR
VERSION:2.0
PRODID:Carson City Calendar Creator
METHOD:PUBLISH
BEGIN:VEVENT
DTSTAMP:20260403T161358
DTSTART:20260720T090000
DTEND:20260724T120000
SUMMARY:Youth Theatre Carson City Musical Theatre Camp “It’s a Musical!”
DESCRIPTION:Sign ups:&nbsp;<a href="https://youththeatrecarsoncity.ludus.com/index.php" target="_blank" rel="noopener">https://youththeatrecarsoncity.ludus.com/index.php</a>
X-ALT-DESC;FMTTYPE=text/html:Sign ups:&nbsp;<a href="https://youththeatrecarsoncity.ludus.com/index.php" target="_blank" rel="noopener">https://youththeatrecarsoncity.ludus.com/index.php</a>
LOCATION:Bob Boldrick Theater\, 851 E. William St. Carson City\, Nevada 89701
CLASS:PUBLIC
END:VEVENT
END:VCALENDAR
