BEGIN:VCALENDAR
VERSION:2.0
PRODID:Carson City Calendar Creator
METHOD:PUBLISH
BEGIN:VEVENT
DTSTAMP:20260403T162350
DTSTART:20260801T190000
DTEND:20260801T220000
SUMMARY:Sierra Nevada Ballet Presents Coppelia
DESCRIPTION:<p>Mark your calendars for the flagship production of our 25th anniversary season- Coppelia! This exciting, hilarious classic ballet about a man who falls in love with his invention will have you clapping your hands and stamping your feet.</p><p>&nbsp;</p><p>Tickets: <a href="https://sierranevadaballet.org/" target="_blank" rel="noopener">https://sierranevadaballet.org/</a></p>
X-ALT-DESC;FMTTYPE=text/html:<p>Mark your calendars for the flagship production of our 25th anniversary season- Coppelia! This exciting, hilarious classic ballet about a man who falls in love with his invention will have you clapping your hands and stamping your feet.</p><p>&nbsp;</p><p>Tickets: <a href="https://sierranevadaballet.org/" target="_blank" rel="noopener">https://sierranevadaballet.org/</a></p>
LOCATION:Bob Boldrick Theater\, 851 E. William St. Carson City\, Nevada 89701
CLASS:PUBLIC
END:VEVENT
END:VCALENDAR
