BEGIN:VCALENDAR
VERSION:2.0
PRODID:Carson City Calendar Creator
METHOD:PUBLISH
BEGIN:VEVENT
DTSTAMP:20260403T162842
DTSTART:20260808T180000
DTEND:20260808T210000
SUMMARY:CBP Aerial Arts Presents The Practically Perfect Mary Poppins - Aerial Arts & Circus Family Show
DESCRIPTION:Tickets: <a href="https://www.cbpaerialarts.com/events-shows" target="_blank" rel="noopener">https://www.cbpaerialarts.com/events-shows</a>
X-ALT-DESC;FMTTYPE=text/html:Tickets: <a href="https://www.cbpaerialarts.com/events-shows" target="_blank" rel="noopener">https://www.cbpaerialarts.com/events-shows</a>
LOCATION:Bob Boldrick Theater\, 851 E. William St. Carson City\, Nevada 89701
CLASS:PUBLIC
END:VEVENT
END:VCALENDAR
