BEGIN:VCALENDAR
VERSION:2.0
PRODID:Carson City Calendar Creator
METHOD:PUBLISH
BEGIN:VEVENT
DTSTAMP:20260403T164351
DTSTART:20260816T140000
DTEND:20260816T163000
SUMMARY:Moon River Theater Company Presents IF/Then
DESCRIPTION:<p>This emotionally resonant production asks: <b>What if one choice could change everything?</b></p><p>Tickets: <a href="https://moonrivertheatercompany.com/boxoffice" target="_blank" rel="noopener">https://moonrivertheatercompany.com/boxoffice</a></p>
X-ALT-DESC;FMTTYPE=text/html:<p>This emotionally resonant production asks: <b>What if one choice could change everything?</b></p><p>Tickets: <a href="https://moonrivertheatercompany.com/boxoffice" target="_blank" rel="noopener">https://moonrivertheatercompany.com/boxoffice</a></p>
LOCATION:Bob Boldrick Theater\, 851 E. William St. Carson City\, Nevada 89701
CLASS:PUBLIC
END:VEVENT
END:VCALENDAR
