BEGIN:VCALENDAR
VERSION:2.0
PRODID:Carson City Calendar Creator
METHOD:PUBLISH
BEGIN:VEVENT
DTSTAMP:20260413T150643
DTSTART:20260415T130000
DTEND:20260415T163000
SUMMARY:V&T Commission
DESCRIPTION:<a href="https://vtrailway.app.box.com/s/nbd22dm7balpz1cwq9fblyxq5dx9ygv8/file/2193974490025">20260415 VT Item 00 Agenda.pdf | Powered by Box</a>
X-ALT-DESC;FMTTYPE=text/html:<a href="https://vtrailway.app.box.com/s/nbd22dm7balpz1cwq9fblyxq5dx9ygv8/file/2193974490025">20260415 VT Item 00 Agenda.pdf | Powered by Box</a>
LOCATION:Community Center\, Robert "Bob" Crowell Board Room\, 851 East William Street Carson City\, Nevada 89701
CLASS:PUBLIC
END:VEVENT
END:VCALENDAR
