BEGIN:VCALENDAR
VERSION:2.0
PRODID:Carson City Calendar Creator
METHOD:PUBLISH
BEGIN:VEVENT
DTSTAMP:20220131T165556
DTSTART:20220207T173000
DTEND:20220207T203000
SUMMARY:Redevelopment Authority Citizens Committee meeting
DESCRIPTION:<p><a href="https://www.carsoncity.gov/government/city-meetings-live-broadcast-and-archives/agendas/redevelopment-authority-citizens-committee-agendas-with-supporting-materials/2022-agenda-with-supporting-materials/02-07-2022-agenda-with-supporting-materials">Agenda with supporting material</a></p><p><a href="https://www.carsoncity.gov/government/city-meetings">Livestream</a></p>
X-ALT-DESC;FMTTYPE=text/html:<p><a href="https://www.carsoncity.gov/government/city-meetings-live-broadcast-and-archives/agendas/redevelopment-authority-citizens-committee-agendas-with-supporting-materials/2022-agenda-with-supporting-materials/02-07-2022-agenda-with-supporting-materials">Agenda with supporting material</a></p><p><a href="https://www.carsoncity.gov/government/city-meetings">Livestream</a></p>
LOCATION:Sierra Room\, Community Center\, 851 E. William St. Carson City\, Nevada 89701
CLASS:PUBLIC
END:VEVENT
END:VCALENDAR
