BEGIN:VCALENDAR
VERSION:2.0
PRODID:Carson City Calendar Creator
METHOD:PUBLISH
BEGIN:VEVENT
DTSTAMP:20211209T103548
DTSTART:20211215T150000
DTEND:20211215T235900
SUMMARY:Planning Commission
DESCRIPTION:<p><a href="https://www.carsoncity.gov/government/city-meetings-live-broadcast-and-archives/agendas/planning-commission-agendas-with-supporting-materials/2021-agendas-w-supporting-materials/12-15-2021-planning-commission-agenda-with-supporting-material">Agenda with Supporting Material&nbsp;</a></p><p><a href="https://www.carsoncity.gov/our-city/city-meetings-agendas-minutes-and-broadcast">Webcast</a></p>
X-ALT-DESC;FMTTYPE=text/html:<p><a href="https://www.carsoncity.gov/government/city-meetings-live-broadcast-and-archives/agendas/planning-commission-agendas-with-supporting-materials/2021-agendas-w-supporting-materials/12-15-2021-planning-commission-agenda-with-supporting-material">Agenda with Supporting Material&nbsp;</a></p><p><a href="https://www.carsoncity.gov/our-city/city-meetings-agendas-minutes-and-broadcast">Webcast</a></p>
LOCATION:
CLASS:PUBLIC
END:VEVENT
END:VCALENDAR
