BEGIN:VCALENDAR
VERSION:2.0
PRODID:Carson City Calendar Creator
METHOD:PUBLISH
BEGIN:VEVENT
DTSTAMP:20220921T090930
DTSTART:20220928T160000
DTEND:20220928T235900
SUMMARY:Planning Commission
DESCRIPTION:<p><span style="text-decoration: underline;"><strong>This meeting will begin at 4:00 PM</strong></span></p><p><a href="https://www.carsoncity.gov/government/city-meetings-live-broadcast-and-archives/agendas/planning-commission-agendas-with-supporting-materials/2022-agenda-with-supporting-materials/09-28-2022-planning-commission-agenda-with-supporting-material">Agenda with Supporting Material&nbsp;</a></p><p><a href="https://www.carsoncity.gov/our-city/city-meetings-agendas-minutes-and-broadcast">Webcast</a></p>
X-ALT-DESC;FMTTYPE=text/html:<p><span style="text-decoration: underline;"><strong>This meeting will begin at 4:00 PM</strong></span></p><p><a href="https://www.carsoncity.gov/government/city-meetings-live-broadcast-and-archives/agendas/planning-commission-agendas-with-supporting-materials/2022-agenda-with-supporting-materials/09-28-2022-planning-commission-agenda-with-supporting-material">Agenda with Supporting Material&nbsp;</a></p><p><a href="https://www.carsoncity.gov/our-city/city-meetings-agendas-minutes-and-broadcast">Webcast</a></p>
LOCATION:Community Center\, Robert "Bob" Crowell Board Room\, 851 East William Street Carson City\, Nevada 89701
CLASS:PUBLIC
END:VEVENT
END:VCALENDAR
