BEGIN:VCALENDAR
VERSION:2.0
PRODID:Carson City Calendar Creator
METHOD:PUBLISH
BEGIN:VEVENT
DTSTAMP:20221228T154823
DTSTART:20230106T133000
DTEND:20230106T143000
SUMMARY:Liquor Hearing
DESCRIPTION:<a href="https://www.carsoncity.gov/government/city-meetings-live-broadcast-and-archives/agendas/liquor-hearing/2023-agenda-with-supporting-materials/1-6-2023-agenda-with-supporting-material">1.6.2023 Agenda with Supporting&nbsp;</a><a href="https://www.carsoncity.gov/government/city-meetings-live-broadcast-and-archives/agendas/liquor-hearing/2023-agenda-with-supporting-materials/1-6-2023-agenda-with-supporting-material">Materials</a>
X-ALT-DESC;FMTTYPE=text/html:<a href="https://www.carsoncity.gov/government/city-meetings-live-broadcast-and-archives/agendas/liquor-hearing/2023-agenda-with-supporting-materials/1-6-2023-agenda-with-supporting-material">1.6.2023 Agenda with Supporting&nbsp;</a><a href="https://www.carsoncity.gov/government/city-meetings-live-broadcast-and-archives/agendas/liquor-hearing/2023-agenda-with-supporting-materials/1-6-2023-agenda-with-supporting-material">Materials</a>
LOCATION:
CLASS:PUBLIC
END:VEVENT
END:VCALENDAR
