BEGIN:VCALENDAR
VERSION:2.0
PRODID:Carson City Calendar Creator
METHOD:PUBLISH
BEGIN:VEVENT
DTSTAMP:20230124T150838
DTSTART:20230130T173000
DTEND:20230130T203000
SUMMARY:Cultural Commission Meeting
DESCRIPTION:<p><a href="chrome-extension://efaidnbmnnnibpcajpcglclefindmkaj/https://www.carsoncity.gov/home/showpublisheddocument/83619/638100617772270000" target="_blank">Agenda</a></p><p><a href="https://www.carsoncity.gov/government/city-meetings-live-broadcast-and-archives/agendas/cultural-commission-agendas-and-supporting-materials/01-30-2023-agenda-with-supporting-materials/-fsiteid-1#!/" target="_blank">Agenda with Supporting Materials</a></p><p><a href="https://www.carsoncity.gov/government/city-meetings#!/" target="_blank">Webcast</a></p>
X-ALT-DESC;FMTTYPE=text/html:<p><a href="chrome-extension://efaidnbmnnnibpcajpcglclefindmkaj/https://www.carsoncity.gov/home/showpublisheddocument/83619/638100617772270000" target="_blank">Agenda</a></p><p><a href="https://www.carsoncity.gov/government/city-meetings-live-broadcast-and-archives/agendas/cultural-commission-agendas-and-supporting-materials/01-30-2023-agenda-with-supporting-materials/-fsiteid-1#!/" target="_blank">Agenda with Supporting Materials</a></p><p><a href="https://www.carsoncity.gov/government/city-meetings#!/" target="_blank">Webcast</a></p>
LOCATION:Community Center\, Robert "Bob" Crowell Board Room\, 851 East William Street Carson City\, Nevada 89701
CLASS:PUBLIC
END:VEVENT
END:VCALENDAR
