BEGIN:VCALENDAR
VERSION:2.0
PRODID:Carson City Calendar Creator
METHOD:PUBLISH
BEGIN:VEVENT
DTSTAMP:20230202T113916
DTSTART:20230207T090000
DTEND:20230207T150000
SUMMARY:Carson City Board of Equalization
DESCRIPTION:<p><a href="https://www.carsoncity.gov/home/showpublisheddocument/83701/638103368429130000" target="_blank">Agenda</a></p><p><a href="https://www.carsoncity.gov/home/showpublisheddocument/83809/638109345371100000" target="_blank">Case #2023-000012&nbsp; APN 007-572-25</a></p><p><a href="https://www.carsoncity.gov/home/showpublisheddocument/83811/638109346443000000" target="_blank">Case #2023-000014&nbsp; APN 004-055-02, 004-055-07</a></p><p><a href="https://www.carsoncity.gov/home/showpublisheddocument/83813/638109346773770000" target="_blank">Case #2023-000015&nbsp; APN 004-181-03</a></p><p><a href="https://www.carsoncity.gov/home/showpublisheddocument/83815/638109347130030000" target="_blank">Case #2023-000016&nbsp; APN 007-102-09</a></p><p><a href="https://www.carsoncity.gov/home/showpublisheddocument/83817/638109347447370000" target="_blank">Case #2023-000017&nbsp; APN 007-591-02</a></p><p>&nbsp;</p>
X-ALT-DESC;FMTTYPE=text/html:<p><a href="https://www.carsoncity.gov/home/showpublisheddocument/83701/638103368429130000" target="_blank">Agenda</a></p><p><a href="https://www.carsoncity.gov/home/showpublisheddocument/83809/638109345371100000" target="_blank">Case #2023-000012&nbsp; APN 007-572-25</a></p><p><a href="https://www.carsoncity.gov/home/showpublisheddocument/83811/638109346443000000" target="_blank">Case #2023-000014&nbsp; APN 004-055-02, 004-055-07</a></p><p><a href="https://www.carsoncity.gov/home/showpublisheddocument/83813/638109346773770000" target="_blank">Case #2023-000015&nbsp; APN 004-181-03</a></p><p><a href="https://www.carsoncity.gov/home/showpublisheddocument/83815/638109347130030000" target="_blank">Case #2023-000016&nbsp; APN 007-102-09</a></p><p><a href="https://www.carsoncity.gov/home/showpublisheddocument/83817/638109347447370000" target="_blank">Case #2023-000017&nbsp; APN 007-591-02</a></p><p>&nbsp;</p>
LOCATION:Community Center\, Robert "Bob" Crowell Board Room\, 851 East William Street Carson City\, Nevada 89701
CLASS:PUBLIC
END:VEVENT
END:VCALENDAR
