BEGIN:VCALENDAR
VERSION:2.0
PRODID:Carson City Calendar Creator
METHOD:PUBLISH
BEGIN:VEVENT
DTSTAMP:20230905T104418
DTSTART:20230911T180000
DTEND:20230911T200000
SUMMARY:Cultural Commission Meeting
DESCRIPTION:<p>&nbsp;</p><p><a href="https://www.carsoncity.gov/government/city-meetings">Webcast</a></p><p><a href="https://www.carsoncity.gov/government/city-meetings-live-broadcast-and-archives/agendas/cultural-commission-agendas-and-supporting-materials/2023-agendas-with-supporting-materials/09-11-2023-agenda-with-supporting-materials">Agenda with Supporting Materials</a></p>
X-ALT-DESC;FMTTYPE=text/html:<p>&nbsp;</p><p><a href="https://www.carsoncity.gov/government/city-meetings">Webcast</a></p><p><a href="https://www.carsoncity.gov/government/city-meetings-live-broadcast-and-archives/agendas/cultural-commission-agendas-and-supporting-materials/2023-agendas-with-supporting-materials/09-11-2023-agenda-with-supporting-materials">Agenda with Supporting Materials</a></p>
LOCATION:Community Center\, Robert "Bob" Crowell Board Room\, 851 East William Street Carson City\, Nevada 89701
CLASS:PUBLIC
END:VEVENT
END:VCALENDAR
