BEGIN:VCALENDAR
VERSION:2.0
PRODID:Carson City Calendar Creator
METHOD:PUBLISH
BEGIN:VEVENT
DTSTAMP:20231004T081333
DTSTART:20231009T133000
DTEND:20231009T150000
SUMMARY:Liquor Hearing
DESCRIPTION:<a href="https://www.carsoncity.gov/government/city-meetings-live-broadcast-and-archives/agendas/liquor-hearing-agendas-with-supporting-materials/2023-agenda-with-supporting-materials/10-09-2023-agenda-with-supporting-material">10.09.2023 Agenda with Supporting Material&nbsp;</a>
X-ALT-DESC;FMTTYPE=text/html:<a href="https://www.carsoncity.gov/government/city-meetings-live-broadcast-and-archives/agendas/liquor-hearing-agendas-with-supporting-materials/2023-agenda-with-supporting-materials/10-09-2023-agenda-with-supporting-material">10.09.2023 Agenda with Supporting Material&nbsp;</a>
LOCATION:Community Development\, Conference Room "A"\, 108 E. Proctor Street Carson City\, Nevada 89701
CLASS:PUBLIC
END:VEVENT
END:VCALENDAR
