BEGIN:VCALENDAR
VERSION:2.0
PRODID:Carson City Calendar Creator
METHOD:PUBLISH
BEGIN:VEVENT
DTSTAMP:20240119T083137
DTSTART:20240124T133000
DTEND:20240124T143000
SUMMARY:Liquor Hearing
DESCRIPTION:<a href="https://www.carsoncity.gov/government/city-meetings-live-broadcast-and-archives/agendas/liquor-hearing-agendas-with-supporting-materials/2024-agenda-with-supporting-materials/1-24-2024-agenda-with-supporting-materials">1.24.2024 Agenda with Supporting Materials</a>
X-ALT-DESC;FMTTYPE=text/html:<a href="https://www.carsoncity.gov/government/city-meetings-live-broadcast-and-archives/agendas/liquor-hearing-agendas-with-supporting-materials/2024-agenda-with-supporting-materials/1-24-2024-agenda-with-supporting-materials">1.24.2024 Agenda with Supporting Materials</a>
LOCATION:Community Development\, Conference Room "A"\, 108 E. Proctor Street Carson City\, Nevada 89701
CLASS:PUBLIC
END:VEVENT
END:VCALENDAR
