BEGIN:VCALENDAR
VERSION:2.0
PRODID:Carson City Calendar Creator
METHOD:PUBLISH
BEGIN:VEVENT
DTSTAMP:20240228T152922
DTSTART:20240306T053000
DTEND:20240306T210000
SUMMARY:Historic Resources Commission
DESCRIPTION:<p><a href="https://www.carsoncity.gov/government/city-meetings-live-broadcast-and-archives/agendas/historic-resources-commission-agendas-with-supporting-materials/2024-hrc-agendas-with-supporting-material/3-06-2024-historic-resources-commission-agenda-with-supporting-material">3.06.2024 Agenda with Supporting Materials</a></p><p><a href="https://www.carsoncity.gov/government/city-meetings">Webcast</a></p>
X-ALT-DESC;FMTTYPE=text/html:<p><a href="https://www.carsoncity.gov/government/city-meetings-live-broadcast-and-archives/agendas/historic-resources-commission-agendas-with-supporting-materials/2024-hrc-agendas-with-supporting-material/3-06-2024-historic-resources-commission-agenda-with-supporting-material">3.06.2024 Agenda with Supporting Materials</a></p><p><a href="https://www.carsoncity.gov/government/city-meetings">Webcast</a></p>
LOCATION:Community Center\, Robert "Bob" Crowell Board Room\, 851 East William Street Carson City\, Nevada 89701
CLASS:PUBLIC
END:VEVENT
END:VCALENDAR
